BEGIN:VCALENDAR
VERSION:2.0
PRODID:-//Holme Grown Eastby CIC - ECPv6.15.20//NONSGML v1.0//EN
CALSCALE:GREGORIAN
METHOD:PUBLISH
X-WR-CALNAME:Holme Grown Eastby CIC
X-ORIGINAL-URL:https://holmegrowneastby.org.uk
X-WR-CALDESC:Events for Holme Grown Eastby CIC
REFRESH-INTERVAL;VALUE=DURATION:PT1H
X-Robots-Tag:noindex
X-PUBLISHED-TTL:PT1H
BEGIN:VTIMEZONE
TZID:UTC
BEGIN:STANDARD
TZOFFSETFROM:+0000
TZOFFSETTO:+0000
TZNAME:UTC
DTSTART:20230101T000000
END:STANDARD
END:VTIMEZONE
BEGIN:VEVENT
DTSTART;TZID=UTC:20240126T110000
DTEND;TZID=UTC:20240126T123000
DTSTAMP:20260422T084029
CREATED:20240112T134310Z
LAST-MODIFIED:20240112T134310Z
UID:1299-1706266800-1706272200@holmegrowneastby.org.uk
SUMMARY:RSPB Big Birdwatch 2024
DESCRIPTION:Please come along for an hour to help count the birds.  It will be fun to see whether our efforts to encourage wildlife to our plot can be measured over the years.  We will have warm drinks and cake on offer.
URL:https://holmegrowneastby.org.uk/event/rspb-big-birdwatch-2024
LOCATION:Holme Grown Eastby\, Holme Field\, Barden Road\, Eastby\, Skipton\, North Yorkshire\, BD23 6SN\, United Kingdom
ORGANIZER;CN="Holme Grown Team":MAILTO:holmegrowneastby@gmail.com
END:VEVENT
END:VCALENDAR